BEGIN:VCALENDAR
VERSION:2.0
PRODID:icalendar-ruby
CALSCALE:GREGORIAN
METHOD:PUBLISH
BEGIN:VEVENT
DTSTAMP:20260424T225636Z
UID:123-682248@faithmethodistchurch.com
DTSTART:20260924T220000Z
DTEND:20260924T230000Z
CLASS:PUBLIC
CREATED:20260424T162729
DESCRIPTION:This support group is a welcoming and safe space for anyone who
  would like to attend—guests and drop-ins are always welcome. There is n
 o cost\, and it is open to the public.\nWhile the Depression Support Group
  is hosted at our church\, it is primarily secular in nature. This simply 
 means the focus is on providing a supportive\, encouraging environment for
  one another\, though faith and personal beliefs are always welcome to be 
 shared. Please note\, this is not group therapy\, but a place to connect\,
  be heard\, and walk alongside others.\nIf you have any questions\, feel f
 ree to reach out to Eddie Cabaniss at platyfurmany@gmail.com.\n \n\n\n
LAST-MODIFIED:20260424T162729
LOCATION:Young Adults Sunday School Room
SUMMARY:Depression Support Group
URL;VALUE=URI:https://www.faithmethodistchurch.com/events/depression-suppor
 t-group--123/2026-09-24
ATTACH;FILENAME=1C35DBE7-DEA9-4993-9531-C7AD6DB1E6F4.jpeg;FMTTYPE=image/jpe
 g:https://dq5pwpg1q8ru0.cloudfront.net/2025/06/03/15/54/47/f16e2c8a-3bb5-4
 cd0-b93e-da31159b5ab3/1C35DBE7-DEA9-4993-9531-C7AD6DB1E6F4.jpeg
END:VEVENT
END:VCALENDAR
