BEGIN:VCALENDAR
VERSION:2.0
PRODID:icalendar-ruby
CALSCALE:GREGORIAN
METHOD:PUBLISH
BEGIN:VEVENT
DTSTAMP:20260421T203514Z
UID:144-672333@faithmethodistchurch.com
DTSTART:20260916T130000Z
DTEND:20260916T160000Z
CLASS:PUBLIC
CREATED:20260421T153745
DESCRIPTION:Faith Methodist Church is honored to offer the Manna Pantry\, a
  community outreach ministry committed to providing food assistance and en
 couragement to individuals and families in need throughout Bartow County. 
 Those in need may receive food once per calendar month by presenting proof
  of residency within Bartow County. No pre-registration is required. Simpl
 y arrive during pantry hours\, and our dedicated team will guide you throu
 gh the process with care and respect. Together\, we strive to serve our co
 mmunity with dignity\, compassion\, and hope.
LAST-MODIFIED:20260421T153745
LOCATION:Modular Unit Behind The Church
SUMMARY:Manna Pantry
URL;VALUE=URI:https://www.faithmethodistchurch.com/events/manna-pantry--144
 /2026-09-16
ATTACH;FILENAME=Green-Illustrative-Healthy-Food-Presentation.png;FMTTYPE=im
 age/png:https://dq5pwpg1q8ru0.cloudfront.net/2025/07/17/17/00/07/15e10b76-
 fb40-4f80-b9c8-e35c80922e53/Green-Illustrative-Healthy-Food-Presentation.p
 ng
END:VEVENT
END:VCALENDAR
