BEGIN:VCALENDAR
VERSION:2.0
PRODID:icalendar-ruby
CALSCALE:GREGORIAN
METHOD:PUBLISH
BEGIN:VEVENT
DTSTAMP:20260424T230108Z
UID:1-682011@faithmethodistchurch.com
DTSTART:20260924T153000Z
DTEND:20260924T163000Z
CLASS:PUBLIC
CREATED:20260424T162728
DESCRIPTION:All men are invited to join us every Thursday for lunch and fel
 lowship.  Contact Pastor Scott for location and further details (pastor@f
 aithmethodistchurch.com). \n 
LAST-MODIFIED:20260424T162728
LOCATION:
SUMMARY:Men's Ministry Lunch
URL;VALUE=URI:https://www.faithmethodistchurch.com/events/mens-ministry-lun
 ch/2026-09-24
ATTACH;FILENAME=YOUTH-GROUP-4.png;FMTTYPE=image/png:https://dq5pwpg1q8ru0.c
 loudfront.net/2024/07/25/16/42/45/b821d462-6ceb-4902-b797-32a824c601bb/YOU
 TH-GROUP-4.png
END:VEVENT
END:VCALENDAR
